BEGIN:VCALENDAR
VERSION:2.0
CALSCALE:GREGORIAN
PRODID:-//MyApp//Calendar 1.0//EN
BEGIN:VEVENT
METHOD:PUBLISH
UID:65654@regionalniportaly.cz
DTSTAMP:20260420T043147Z
DTSTART;VALUE=DATE:20260425
DTEND;VALUE=DATE:20260426
SUMMARY:Dražice CUP
DESCRIPTION:Dne 25. 4. 2026 se uskuteční již 14. ročník Mezinárodní soutěže a mistrovství ČR v akrobatickém rokenrolu.\n \nDražice NIBE Aréna od 11:30.
LOCATION:Benátky nad Jizerou
END:VEVENT
END:VCALENDAR